BEGIN:VCALENDAR
VERSION:2.0
PRODID:-//Kelowna Yacht Club - ECPv6.15.20//NONSGML v1.0//EN
CALSCALE:GREGORIAN
METHOD:PUBLISH
X-WR-CALNAME:Kelowna Yacht Club
X-ORIGINAL-URL:https://kelownayachtclub.com
X-WR-CALDESC:Events for Kelowna Yacht Club
REFRESH-INTERVAL;VALUE=DURATION:PT1H
X-Robots-Tag:noindex
X-PUBLISHED-TTL:PT1H
BEGIN:VTIMEZONE
TZID:America/Vancouver
BEGIN:DAYLIGHT
TZOFFSETFROM:-0800
TZOFFSETTO:-0700
TZNAME:PDT
DTSTART:20250309T100000
END:DAYLIGHT
BEGIN:STANDARD
TZOFFSETFROM:-0700
TZOFFSETTO:-0800
TZNAME:PST
DTSTART:20251102T090000
END:STANDARD
BEGIN:DAYLIGHT
TZOFFSETFROM:-0800
TZOFFSETTO:-0700
TZNAME:PDT
DTSTART:20260308T100000
END:DAYLIGHT
BEGIN:STANDARD
TZOFFSETFROM:-0700
TZOFFSETTO:-0800
TZNAME:PST
DTSTART:20261101T090000
END:STANDARD
BEGIN:DAYLIGHT
TZOFFSETFROM:-0800
TZOFFSETTO:-0700
TZNAME:PDT
DTSTART:20270314T100000
END:DAYLIGHT
BEGIN:STANDARD
TZOFFSETFROM:-0700
TZOFFSETTO:-0800
TZNAME:PST
DTSTART:20271107T090000
END:STANDARD
END:VTIMEZONE
BEGIN:VEVENT
DTSTART;TZID=America/Vancouver:20260420T170000
DTEND;TZID=America/Vancouver:20260420T190000
DTSTAMP:20260420T071058
CREATED:20260129T190732Z
LAST-MODIFIED:20260316T165737Z
UID:10000768-1776704400-1776711600@kelownayachtclub.com
SUMMARY:Member Lounge Live Music Series
DESCRIPTION:This April\, we are turning up the volume in the Member Lounge with the return of our Member Lounge Live Music Series! \n  \nWho Is This Event For: \nThis series is open to KYC members\, guests\, and reciprocals who enjoy live music and want to be part of helping curate future entertainment at the club. \nThe Experience: \nJoin us in the Member Lounge for 4 evenings of live music featuring new bands not currently on our roster. Each performance is an opportunity to experience something different and let us know what you think. Your feedback directly helps guide future bookings. \nDates: Monday April 13 & Tuesday April 14 | Monday April 20 & Tuesday April 21 \nTime: 5:00 – 7:00 PM \nLocation: Member Lounge \nPerformance Schedule:\nApril 13: Cadillac Jack & The Blue Tones \nApril 14: Chick Jagger & The Rolling Tones \nApril 20: James Hay Blues Band \nApril 21: Gin Morgan \n  \nReservations are recommended and can be made online\, or by calling the Member Lounge at (778) 478-8215. \nFAQs: \nWho can attend? \nThis is open to KYC members and guests\, as well as reciprocal members. \nDo I need a reservation? \nReservations are recommended and can be made online\, or by calling the Member Lounge at (778) 478-8215. \nHow do I provide feedback on the bands? \nWe will provide comment cards you can fill out\, as well as a QR code to an online version. \nCan I attend more than one night in the series?\nAbsolutely! We encourage members to attend multiple nights to experience different bands and provide feedback on each. \nHow will my feedback be used?\nMember feedback is reviewed by our team and plays a key role in deciding which bands may be invited back for future events
URL:https://kelownayachtclub.com/event/member-lounge-live-music-series-2/2026-04-20/
CATEGORIES:Member Events
ATTACH;FMTTYPE=image/png:https://kelownayachtclub.com/wp-content/uploads/KYC-Member-Lounge-2025-4.png
END:VEVENT
BEGIN:VEVENT
DTSTART;TZID=America/Vancouver:20260420T170000
DTEND;TZID=America/Vancouver:20260420T200000
DTSTAMP:20260420T071058
CREATED:20260224T202633Z
LAST-MODIFIED:20260224T202633Z
UID:10000863-1776704400-1776715200@kelownayachtclub.com
SUMMARY:Adult Learn to Sail · Intro to Keelboat Sailing
DESCRIPTION:Learn to sail on a 27-foot Keelboat! Enjoy a lesson spent out on the water\, learning valuable skills and experiencing the joys of sailing. No previous sailing experience is necessary\, and you can learn at any age. Instructors will tailor the lesson to your skill level and abilities. Taught by a certified captain\, each session has a maximum of four participants\, and it is recommended to schedule two or more lessons to advance your sailing skills. \nSuccessful completion of 4 sessions will mean a Sail Canada “Start Keelboating” Certification. \nIntroduction to Sailing\nAge: 15 +\nDates:\n  · Mondays  | April 6 – October 5\n  · Tuesdays  | April 7– October 13\nTime: 5:00 PM – 8:00 PM\nCost: $90 / single lesson\, $350 / 4 lesson package \nHave questions about this program or looking for a custom booking?  Contact the KYC Sailing & Watersport Education Team directly at sailingschool@kelownayachtclub.com. \nPricing does not include GST\, which will be applied to select youth offerings and all adult courses.
URL:https://kelownayachtclub.com/event/adult-learn-to-sail-%c2%b7-intro-to-keelboat-sailing-2/2026-04-20/
LOCATION:On the Water
CATEGORIES:Member Events,On the Water,Public Events
ATTACH;FMTTYPE=image/avif:https://kelownayachtclub.com/wp-content/uploads/Sail-1.avif
END:VEVENT
END:VCALENDAR