BEGIN:VCALENDAR
VERSION:2.0
PRODID:-//Kelowna Yacht Club - ECPv6.15.20//NONSGML v1.0//EN
CALSCALE:GREGORIAN
METHOD:PUBLISH
X-WR-CALNAME:Kelowna Yacht Club
X-ORIGINAL-URL:https://kelownayachtclub.com
X-WR-CALDESC:Events for Kelowna Yacht Club
REFRESH-INTERVAL;VALUE=DURATION:PT1H
X-Robots-Tag:noindex
X-PUBLISHED-TTL:PT1H
BEGIN:VTIMEZONE
TZID:America/Vancouver
BEGIN:DAYLIGHT
TZOFFSETFROM:-0800
TZOFFSETTO:-0700
TZNAME:PDT
DTSTART:20250309T100000
END:DAYLIGHT
BEGIN:STANDARD
TZOFFSETFROM:-0700
TZOFFSETTO:-0800
TZNAME:PST
DTSTART:20251102T090000
END:STANDARD
BEGIN:DAYLIGHT
TZOFFSETFROM:-0800
TZOFFSETTO:-0700
TZNAME:PDT
DTSTART:20260308T100000
END:DAYLIGHT
BEGIN:STANDARD
TZOFFSETFROM:-0700
TZOFFSETTO:-0800
TZNAME:PST
DTSTART:20261101T090000
END:STANDARD
BEGIN:DAYLIGHT
TZOFFSETFROM:-0800
TZOFFSETTO:-0700
TZNAME:PDT
DTSTART:20270314T100000
END:DAYLIGHT
BEGIN:STANDARD
TZOFFSETFROM:-0700
TZOFFSETTO:-0800
TZNAME:PST
DTSTART:20271107T090000
END:STANDARD
END:VTIMEZONE
BEGIN:VEVENT
DTSTART;TZID=America/Vancouver:20260423T083000
DTEND;TZID=America/Vancouver:20260423T170000
DTSTAMP:20260423T032757
CREATED:20260330T192544Z
LAST-MODIFIED:20260330T192544Z
UID:10000957-1776933000-1776963600@kelownayachtclub.com
SUMMARY:SVOP and SDV-BS Courses
DESCRIPTION:Small Vessel Operator Proficiency Course (SVOP) is the minimum training for owners and operators of commercial vessels: Workboats and passenger vessels up to 5 GT\, and fishing vessels of up to 15 GT\, engaged on a Near Coastal class 2 or a sheltered waters voyage. \nSmall Domestic Vessel Basic Safety Course (SDV-BS) is the training requirement for masters and crew on small non-pleasure (commercial) vessels. This part of the course focuses on the different types of emergencies out on the water and what is required to keep crew and passengers safe. SDVBS is for Owners\, Operators and Crew\, on:\n· Commercial Vessels of 24 meters or less\, engaged on a sheltered water voyage only;\n· Commercial Vessels of 18 meters or less engaged on a voyage in domestic waters; and\,\n· Commercial Fishing vessels of 24 meters or less engaged on a voyage in domestic waters. \nSVOP and SDV-BS Courses\nAge: 15 +\nDates: April 22 – 26 (5-day program)\nTime: 8:30 AM – 5:00 PM\nCost: $1\,375 + applicable taxes \nHave questions about this program or looking for a custom booking?  Contact the KYC Sailing & Watersport Education Team directly at sailingschool@kelownayachtclub.com. \nPricing does not include GST\, which will be applied to select youth offerings and all adult courses.
URL:https://kelownayachtclub.com/event/svop-and-sdv-bs-courses/2026-04-23/
LOCATION:Kelowna Yacht Club\, 1370 Water St\, Kelowna\, BC\, V1Y 1J1\, Canada
CATEGORIES:Member Events,Public Events
ATTACH;FMTTYPE=image/webp:https://kelownayachtclub.com/wp-content/uploads/SVOP.webp
END:VEVENT
END:VCALENDAR