BEGIN:VCALENDAR
VERSION:2.0
PRODID:-//Kelowna Yacht Club - ECPv6.15.20//NONSGML v1.0//EN
CALSCALE:GREGORIAN
METHOD:PUBLISH
X-ORIGINAL-URL:https://kelownayachtclub.com
X-WR-CALDESC:Events for Kelowna Yacht Club
REFRESH-INTERVAL;VALUE=DURATION:PT1H
X-Robots-Tag:noindex
X-PUBLISHED-TTL:PT1H
BEGIN:VTIMEZONE
TZID:America/Vancouver
BEGIN:DAYLIGHT
TZOFFSETFROM:-0800
TZOFFSETTO:-0700
TZNAME:PDT
DTSTART:20230312T100000
END:DAYLIGHT
BEGIN:STANDARD
TZOFFSETFROM:-0700
TZOFFSETTO:-0800
TZNAME:PST
DTSTART:20231105T090000
END:STANDARD
BEGIN:DAYLIGHT
TZOFFSETFROM:-0800
TZOFFSETTO:-0700
TZNAME:PDT
DTSTART:20240310T100000
END:DAYLIGHT
BEGIN:STANDARD
TZOFFSETFROM:-0700
TZOFFSETTO:-0800
TZNAME:PST
DTSTART:20241103T090000
END:STANDARD
BEGIN:DAYLIGHT
TZOFFSETFROM:-0800
TZOFFSETTO:-0700
TZNAME:PDT
DTSTART:20250309T100000
END:DAYLIGHT
BEGIN:STANDARD
TZOFFSETFROM:-0700
TZOFFSETTO:-0800
TZNAME:PST
DTSTART:20251102T090000
END:STANDARD
END:VTIMEZONE
BEGIN:VEVENT
DTSTART;TZID=America/Vancouver:20241110T133000
DTEND;TZID=America/Vancouver:20241110T150000
DTSTAMP:20260419T115137
CREATED:20241108T031251Z
LAST-MODIFIED:20241114T185547Z
UID:10000013-1731245400-1731250800@kelownayachtclub.com
SUMMARY:Power Fleet Social
DESCRIPTION:Do you own a power boat moored in the KYC basin? Do you have a power boat and are waiting for moorage? \nIf you answered yes to any of these questions you are a member of the Kelowna Yacht Club Power Fleet! \nThe current Staff Captain\, Ryan Archambault\, would like to invite you to join the fleet for an annual social. Enjoy a complimentary beverage\, some snacks and a chance to meet fellow power fleet members. \nThis event is free and open to all power boaters of KYC. \nSpinnaker Room | 1:30PM – 3:00PM \nRegistration is recommended. \n  \n\n 
URL:https://kelownayachtclub.com/event/power-fleet-social/
LOCATION:BC
CATEGORIES:Member Events
ATTACH;FMTTYPE=image/jpeg:https://kelownayachtclub.com/wp-content/uploads/The_basin.jpg
END:VEVENT
BEGIN:VEVENT
DTSTART;TZID=America/Vancouver:20241111T093000
DTEND;TZID=America/Vancouver:20241111T143000
DTSTAMP:20260419T115137
CREATED:20241108T031322Z
LAST-MODIFIED:20241114T185447Z
UID:10000012-1731317400-1731335400@kelownayachtclub.com
SUMMARY:Remembrance Day
DESCRIPTION:The Kelowna Yacht Club would like to honour those who gave their lives while serving our country and to all of those in uniform who served and are currently serving. \nOn November 11\, the Kelowna Yacht Club will be lowering the flags and laying a wreath. \nThe City of Kelowna will be holding a parade and ceremony at the City Park Cenotaph. \nThe Member Lounge will be open on November 11 from 9:30AM – 2:30PM with a brunch buffet including soup & sandwich being offered. There will not be any other menus available and the Member Lounge will be closed at 3:00PM. On this day\, a portion of the proceeds from all drink purchases in the Member Lounge and The Galley Lakeside Cafe will be donated to the Royal Canadian Legion Kelowna Branch.  \nMembers of the Power and Sail Fleet who would like to attend the ceremony by vessel will be meeting on the water near the City Park Cenotaph. At the 11th hour\, there will be a moment of silence and lowering of flags by all vessels in attendance. \nCheck back for the special Brunch Menu.
URL:https://kelownayachtclub.com/event/remembrance-day/
LOCATION:BC
CATEGORIES:Member Events
ATTACH;FMTTYPE=image/png:https://kelownayachtclub.com/wp-content/uploads/Remembrance-Day-1.png
END:VEVENT
END:VCALENDAR