BEGIN:VCALENDAR
VERSION:2.0
PRODID:-//Kelowna Yacht Club - ECPv6.15.20//NONSGML v1.0//EN
CALSCALE:GREGORIAN
METHOD:PUBLISH
X-ORIGINAL-URL:https://kelownayachtclub.com
X-WR-CALDESC:Events for Kelowna Yacht Club
REFRESH-INTERVAL;VALUE=DURATION:PT1H
X-Robots-Tag:noindex
X-PUBLISHED-TTL:PT1H
BEGIN:VTIMEZONE
TZID:America/Vancouver
BEGIN:DAYLIGHT
TZOFFSETFROM:-0800
TZOFFSETTO:-0700
TZNAME:PDT
DTSTART:20240310T100000
END:DAYLIGHT
BEGIN:STANDARD
TZOFFSETFROM:-0700
TZOFFSETTO:-0800
TZNAME:PST
DTSTART:20241103T090000
END:STANDARD
BEGIN:DAYLIGHT
TZOFFSETFROM:-0800
TZOFFSETTO:-0700
TZNAME:PDT
DTSTART:20250309T100000
END:DAYLIGHT
BEGIN:STANDARD
TZOFFSETFROM:-0700
TZOFFSETTO:-0800
TZNAME:PST
DTSTART:20251102T090000
END:STANDARD
BEGIN:DAYLIGHT
TZOFFSETFROM:-0800
TZOFFSETTO:-0700
TZNAME:PDT
DTSTART:20260308T100000
END:DAYLIGHT
BEGIN:STANDARD
TZOFFSETFROM:-0700
TZOFFSETTO:-0800
TZNAME:PST
DTSTART:20261101T090000
END:STANDARD
END:VTIMEZONE
BEGIN:VEVENT
DTSTART;TZID=America/Vancouver:20250319T180000
DTEND;TZID=America/Vancouver:20250319T210000
DTSTAMP:20260423T064000
CREATED:20241108T031534Z
LAST-MODIFIED:20250215T002337Z
UID:10000212-1742407200-1742418000@kelownayachtclub.com
SUMMARY:Open Racing Social
DESCRIPTION:Has winter got you down in the doldrums? The Open Racing Social is guaranteed to put the wind back in your sails! Drop anchor at the Kelowna Yacht Club to catch up with fellow sailors and celebrate the approaching racing season. \nWednesday March 19th | 6 – 9 PM\nGrand Banquet Room\nNo Charge to Attend • Cash Bar \nRegistration is required\, please register below. \nPlease enable JavaScript in your browser to complete this form.Name *FirstLastAdditional AttendeeFirstLastEmail *I plan to attend:YesNoComment or MessageSubmit
URL:https://kelownayachtclub.com/event/open-racing-social/
LOCATION:Grand Banquet Room
CATEGORIES:Public Events,Sail Fleet
ATTACH;FMTTYPE=image/jpeg:https://kelownayachtclub.com/wp-content/uploads/Blossom-Time-Regatta-2022-57.jpg
END:VEVENT
END:VCALENDAR