BEGIN:VCALENDAR
VERSION:2.0
PRODID:-//Kelowna Yacht Club - ECPv6.15.20//NONSGML v1.0//EN
CALSCALE:GREGORIAN
METHOD:PUBLISH
X-ORIGINAL-URL:https://kelownayachtclub.com
X-WR-CALDESC:Events for Kelowna Yacht Club
REFRESH-INTERVAL;VALUE=DURATION:PT1H
X-Robots-Tag:noindex
X-PUBLISHED-TTL:PT1H
BEGIN:VTIMEZONE
TZID:America/Vancouver
BEGIN:DAYLIGHT
TZOFFSETFROM:-0800
TZOFFSETTO:-0700
TZNAME:PDT
DTSTART:20240310T100000
END:DAYLIGHT
BEGIN:STANDARD
TZOFFSETFROM:-0700
TZOFFSETTO:-0800
TZNAME:PST
DTSTART:20241103T090000
END:STANDARD
BEGIN:DAYLIGHT
TZOFFSETFROM:-0800
TZOFFSETTO:-0700
TZNAME:PDT
DTSTART:20250309T100000
END:DAYLIGHT
BEGIN:STANDARD
TZOFFSETFROM:-0700
TZOFFSETTO:-0800
TZNAME:PST
DTSTART:20251102T090000
END:STANDARD
BEGIN:DAYLIGHT
TZOFFSETFROM:-0800
TZOFFSETTO:-0700
TZNAME:PDT
DTSTART:20260308T100000
END:DAYLIGHT
BEGIN:STANDARD
TZOFFSETFROM:-0700
TZOFFSETTO:-0800
TZNAME:PST
DTSTART:20261101T090000
END:STANDARD
END:VTIMEZONE
BEGIN:VEVENT
DTSTART;TZID=America/Vancouver:20250523T170000
DTEND;TZID=America/Vancouver:20250525T180000
DTSTAMP:20260423T034128
CREATED:20250331T183333Z
LAST-MODIFIED:20250523T210522Z
UID:10000307-1748019600-1748196000@kelownayachtclub.com
SUMMARY:Blossom Time Regatta
DESCRIPTION:2025 Blossom Time Regatta May 23-25\, 2025 \nRegistration:\nSkipper & Vessel Registration   Weekend Meal Tickets   Crew Registration   Reciprocal Moorage Request\nRace Information:\nNotice of Race  Sailing Instructions   Appendix S   Message Boards \n\n2025 Fee Schedule:\nSkipper & Vessel Registration Entry Fee:\n• Regular Entry Fee: $160.00* Includes: \n\nFriday Night Welcome Social\nTwo Full Days of Racing\nSaturday Night Social Activities\nSunday Awards Banquet with Prizes for Winners in Each Fleet\nOne (1) Weekend Meal Ticket (Additional Meal Tickets Available for Purchase)\n\n*Subject to applicable taxes & fees. \nWeekend Meal Tickets: Continue on this page to purchase.\n• Meal Ticket: $74.00** Includes: \n\nSaturday Morning Hot Breakfast Buffet\nSaturday Evening Dinner Buffet\nSunday Morning Hot Breakfast Buffet\nSunday Afternoon BBQ Buffet\n\n**Subject to applicable taxes & gratuities. \nSchedule of Events:\nFriday\, May 23\n5 – 7 PM: Registration & Check-In | Grand Banquet Room (Second Floor of KYC Clubhouse) \n\nAll Skippers are asked to check-in at the Registration Desk\n\nAll participants who have purchased a weekend meal ticket are asked to check-in at the Registration Desk to receive their wristband.\n\n\n\n5 -10 PM: Welcome Social | Grand Banquet Room (Second Floor of KYC Clubhouse) \n\nJoin your fellow sailors to kick off the regatta weekend!\n\nFood & beverages are available for purchase.\n\n\n\nSaturday\, May 24\n8:30 – 10 AM: Breakfast | Grand Banquet Room (Second Floor of KYC Clubhouse) \n\nAvailable for all participants with a weekend meal ticket. Please note that no other food service will be available in the Grand Banquet Room at this time.\n\n11 AM: First Warning Signal | On the Water \n4:30 PM: Mojito Bar | Commodore’s Dock \n\nPlease bring your own cup to enjoy these delicious beverages! \n\n5 PM: Bar Opens | Grand Banquet Room (Second Floor of KYC Clubhouse) \n6 – 7:30 PM: Dinner Buffet | Grand Banquet Room (Second Floor of KYC Clubhouse) \n\nAvailable for all participants with a weekend meal ticket. Please note that no other food service will be available in the Grand Banquet Room at this time.\n\n8 – 10 PM: Live Music featuring the McKinley Band \nSunday\, May 25\n8 – 9:30 AM: Breakfast | Grand Banquet Room (Second Floor of KYC Clubhouse) \n\n Available for all participants with a weekend meal ticket. Please note that no other food service will be available in the Grand Banquet Room at this time.\n\n10:30 AM: First Warning Signal | On the Water \n2 PM: BBQ Buffet (Flexible start time) | Grand Banquet Room (Second Floor of KYC Clubhouse) \n\nAvailable for all participants with a weekend meal ticket. Please note that no other food service will be available in the Grand Banquet Room at this time.\n\nFollowing the BBQ: Awards Banquet & Ceremony | Grand Banquet Room (Second Floor of KYC Clubhouse)  Timing is approximate and will vary depending on the time of the final race. \nFor more information or any questions\, please contact Cary at cary@kelownayachtclub.com. \nRace Results\n2025 Blossomtime Regatta Results – here\nArchived Results \n\n\n\n2024 Blossomtime Regatta Results\n2023 Blossomtime Regatta Results\n2022 Blossomtime Regatta Results\n2019 Blossomtime Regatta Results\n2018 Blossomtime Regatta Results\n\n\n\n\n 
URL:https://kelownayachtclub.com/event/blossom-time-regatta/
LOCATION:Grand Banquet Room
CATEGORIES:Member Events,Sail Fleet
END:VEVENT
END:VCALENDAR