BEGIN:VCALENDAR
VERSION:2.0
PRODID:-//Kelowna Yacht Club - ECPv6.15.20//NONSGML v1.0//EN
CALSCALE:GREGORIAN
METHOD:PUBLISH
X-ORIGINAL-URL:https://kelownayachtclub.com
X-WR-CALDESC:Events for Kelowna Yacht Club
REFRESH-INTERVAL;VALUE=DURATION:PT1H
X-Robots-Tag:noindex
X-PUBLISHED-TTL:PT1H
BEGIN:VTIMEZONE
TZID:America/Vancouver
BEGIN:DAYLIGHT
TZOFFSETFROM:-0800
TZOFFSETTO:-0700
TZNAME:PDT
DTSTART:20240310T100000
END:DAYLIGHT
BEGIN:STANDARD
TZOFFSETFROM:-0700
TZOFFSETTO:-0800
TZNAME:PST
DTSTART:20241103T090000
END:STANDARD
BEGIN:DAYLIGHT
TZOFFSETFROM:-0800
TZOFFSETTO:-0700
TZNAME:PDT
DTSTART:20250309T100000
END:DAYLIGHT
BEGIN:STANDARD
TZOFFSETFROM:-0700
TZOFFSETTO:-0800
TZNAME:PST
DTSTART:20251102T090000
END:STANDARD
BEGIN:DAYLIGHT
TZOFFSETFROM:-0800
TZOFFSETTO:-0700
TZNAME:PDT
DTSTART:20260308T100000
END:DAYLIGHT
BEGIN:STANDARD
TZOFFSETFROM:-0700
TZOFFSETTO:-0800
TZNAME:PST
DTSTART:20261101T090000
END:STANDARD
END:VTIMEZONE
BEGIN:VEVENT
DTSTART;TZID=America/Vancouver:20250630T180000
DTEND;TZID=America/Vancouver:20250630T230000
DTSTAMP:20260423T020607
CREATED:20241108T031907Z
LAST-MODIFIED:20250707T225024Z
UID:10000459-1751306400-1751324400@kelownayachtclub.com
SUMMARY:Women's Sailing Wrap-Up Party
DESCRIPTION:After a wonderful season\, Women’s Sailing is wrapping up with a end of season party! Join your fellow sailors for an evening of reminiscing\, laughs\, prizes & great food. The evening will include a buffet dinner followed by the 2025 Women’s Sailing Awards presentation. \nMonday\, June 30 · Grand Banquet Room \nDoors Open: 6:00PM\nDinner: 6:30PM\nAwards Presentation: 7:00PM \nDinner: $26* \n*Subject to applicable taxes & gratuities.   \nTickets: Tickets are required and can be purchased here. \n\nMenu: Asian Fusion Bowl Buffet\n\nSushi Rice\nCrispy Tofu\nTeriyaki Chicken\nRaw Tuna Poke\nAssortment of season vegetables\, and may include; peppers\, green onion\, pickled carrot\, and edamame\nPork & Vegetable Gyoza\nMixed Greens\nHousemade Spicy Pickles\nMedium Boiled Eggs\nAssorted sauces; unagi sauce\, spicy mayo\, and miso vinaigrette\nChef’s daily dessert\n\n\nBar: Each attendee will receive a drink ticket as they enter that can be redeemed at the bar. Aside from this\, it will be a cash bar offering happy hour pricing. KYC will provide the tickets used for drink tickets\nVolunteers: All coaches\, committee boat and any other volunteers are complimentary and will not be required to register.\nKYC Members: To have your ticket member charged\, at the checkout page\, apply the coupon code (case sensitive): KYCMemberCharge. Copy or write this code down as you won’t see it on the checkout page.\n\nCancellations received after June 27th will be subject to the full ticket price. Please note\, no-shows will be billed for the full registration amount. Should you need to cancel\, or have any questions\, please contact the us at 250-762-3310 ext. 221 or at alicia@kelownayachtclub.com. \n  \n 
URL:https://kelownayachtclub.com/event/womens-sailing-wrap-up-party/
LOCATION:Grand Banquet Room
CATEGORIES:Member Events,Public Events,Sail Fleet
ATTACH;FMTTYPE=image/png:https://kelownayachtclub.com/wp-content/uploads/Sunset-Marina.png
END:VEVENT
END:VCALENDAR