BEGIN:VCALENDAR
VERSION:2.0
PRODID:-//Kelowna Yacht Club - ECPv6.15.20//NONSGML v1.0//EN
CALSCALE:GREGORIAN
METHOD:PUBLISH
X-WR-CALNAME:Kelowna Yacht Club
X-ORIGINAL-URL:https://kelownayachtclub.com
X-WR-CALDESC:Events for Kelowna Yacht Club
REFRESH-INTERVAL;VALUE=DURATION:PT1H
X-Robots-Tag:noindex
X-PUBLISHED-TTL:PT1H
BEGIN:VTIMEZONE
TZID:America/Vancouver
BEGIN:DAYLIGHT
TZOFFSETFROM:-0800
TZOFFSETTO:-0700
TZNAME:PDT
DTSTART:20250309T100000
END:DAYLIGHT
BEGIN:STANDARD
TZOFFSETFROM:-0700
TZOFFSETTO:-0800
TZNAME:PST
DTSTART:20251102T090000
END:STANDARD
BEGIN:DAYLIGHT
TZOFFSETFROM:-0800
TZOFFSETTO:-0700
TZNAME:PDT
DTSTART:20260308T100000
END:DAYLIGHT
BEGIN:STANDARD
TZOFFSETFROM:-0700
TZOFFSETTO:-0800
TZNAME:PST
DTSTART:20261101T090000
END:STANDARD
BEGIN:DAYLIGHT
TZOFFSETFROM:-0800
TZOFFSETTO:-0700
TZNAME:PDT
DTSTART:20270314T100000
END:DAYLIGHT
BEGIN:STANDARD
TZOFFSETFROM:-0700
TZOFFSETTO:-0800
TZNAME:PST
DTSTART:20271107T090000
END:STANDARD
END:VTIMEZONE
BEGIN:VEVENT
DTSTART;TZID=America/Vancouver:20260505T170000
DTEND;TZID=America/Vancouver:20260505T190000
DTSTAMP:20260419T085228
CREATED:20260313T202121Z
LAST-MODIFIED:20260406T180540Z
UID:10001002-1778000400-1778007600@kelownayachtclub.com
SUMMARY:Commodore's Table
DESCRIPTION:The Commodore’s Table returns! \nJoin Commodore Danny Foster and fellow Directors in the Member Lounge for an evening of open dialogue and updates. This is your chance to connect with Club leadership\, share ideas\, and hear the latest on Club initiatives. Drop in for a casual\, conversational setting—all members are welcome! \nMember Lounge\n5:00 – 7:00 PM \nUpcoming Dates:\n· Tuesday\, May 5\n· Tuesday\, June 2\n· Tuesday\, July 7\n· Tuesday\, August 4
URL:https://kelownayachtclub.com/event/commodores-table-3/2026-05-05/
LOCATION:Member Lounge\, 1370 Water St\, Kelowna\, BC\, V1Y 1J1\, Canada
CATEGORIES:Member Events
ATTACH;FMTTYPE=image/jpeg:https://kelownayachtclub.com/wp-content/uploads/Untitled-design.jpg
END:VEVENT
BEGIN:VEVENT
DTSTART;TZID=America/Vancouver:20260602T170000
DTEND;TZID=America/Vancouver:20260602T190000
DTSTAMP:20260419T085228
CREATED:20260313T202121Z
LAST-MODIFIED:20260406T180540Z
UID:10001003-1780419600-1780426800@kelownayachtclub.com
SUMMARY:Commodore's Table
DESCRIPTION:The Commodore’s Table returns! \nJoin Commodore Danny Foster and fellow Directors in the Member Lounge for an evening of open dialogue and updates. This is your chance to connect with Club leadership\, share ideas\, and hear the latest on Club initiatives. Drop in for a casual\, conversational setting—all members are welcome! \nMember Lounge\n5:00 – 7:00 PM \nUpcoming Dates:\n· Tuesday\, May 5\n· Tuesday\, June 2\n· Tuesday\, July 7\n· Tuesday\, August 4
URL:https://kelownayachtclub.com/event/commodores-table-3/2026-06-02/
LOCATION:Member Lounge\, 1370 Water St\, Kelowna\, BC\, V1Y 1J1\, Canada
CATEGORIES:Member Events
ATTACH;FMTTYPE=image/jpeg:https://kelownayachtclub.com/wp-content/uploads/Untitled-design.jpg
END:VEVENT
BEGIN:VEVENT
DTSTART;TZID=America/Vancouver:20260707T170000
DTEND;TZID=America/Vancouver:20260707T190000
DTSTAMP:20260419T085228
CREATED:20260313T202121Z
LAST-MODIFIED:20260406T180540Z
UID:10001004-1783443600-1783450800@kelownayachtclub.com
SUMMARY:Commodore's Table
DESCRIPTION:The Commodore’s Table returns! \nJoin Commodore Danny Foster and fellow Directors in the Member Lounge for an evening of open dialogue and updates. This is your chance to connect with Club leadership\, share ideas\, and hear the latest on Club initiatives. Drop in for a casual\, conversational setting—all members are welcome! \nMember Lounge\n5:00 – 7:00 PM \nUpcoming Dates:\n· Tuesday\, May 5\n· Tuesday\, June 2\n· Tuesday\, July 7\n· Tuesday\, August 4
URL:https://kelownayachtclub.com/event/commodores-table-3/2026-07-07/
LOCATION:Member Lounge\, 1370 Water St\, Kelowna\, BC\, V1Y 1J1\, Canada
CATEGORIES:Member Events
ATTACH;FMTTYPE=image/jpeg:https://kelownayachtclub.com/wp-content/uploads/Untitled-design.jpg
END:VEVENT
BEGIN:VEVENT
DTSTART;TZID=America/Vancouver:20260804T170000
DTEND;TZID=America/Vancouver:20260804T190000
DTSTAMP:20260419T085228
CREATED:20260313T202121Z
LAST-MODIFIED:20260406T180540Z
UID:10001005-1785862800-1785870000@kelownayachtclub.com
SUMMARY:Commodore's Table
DESCRIPTION:The Commodore’s Table returns! \nJoin Commodore Danny Foster and fellow Directors in the Member Lounge for an evening of open dialogue and updates. This is your chance to connect with Club leadership\, share ideas\, and hear the latest on Club initiatives. Drop in for a casual\, conversational setting—all members are welcome! \nMember Lounge\n5:00 – 7:00 PM \nUpcoming Dates:\n· Tuesday\, May 5\n· Tuesday\, June 2\n· Tuesday\, July 7\n· Tuesday\, August 4
URL:https://kelownayachtclub.com/event/commodores-table-3/2026-08-04/
LOCATION:Member Lounge\, 1370 Water St\, Kelowna\, BC\, V1Y 1J1\, Canada
CATEGORIES:Member Events
ATTACH;FMTTYPE=image/jpeg:https://kelownayachtclub.com/wp-content/uploads/Untitled-design.jpg
END:VEVENT
END:VCALENDAR