BEGIN:VCALENDAR
VERSION:2.0
PRODID:-//Kelowna Yacht Club - ECPv6.15.20//NONSGML v1.0//EN
CALSCALE:GREGORIAN
METHOD:PUBLISH
X-ORIGINAL-URL:https://kelownayachtclub.com
X-WR-CALDESC:Events for Kelowna Yacht Club
REFRESH-INTERVAL;VALUE=DURATION:PT1H
X-Robots-Tag:noindex
X-PUBLISHED-TTL:PT1H
BEGIN:VTIMEZONE
TZID:America/Vancouver
BEGIN:DAYLIGHT
TZOFFSETFROM:-0800
TZOFFSETTO:-0700
TZNAME:PDT
DTSTART:20230312T100000
END:DAYLIGHT
BEGIN:STANDARD
TZOFFSETFROM:-0700
TZOFFSETTO:-0800
TZNAME:PST
DTSTART:20231105T090000
END:STANDARD
BEGIN:DAYLIGHT
TZOFFSETFROM:-0800
TZOFFSETTO:-0700
TZNAME:PDT
DTSTART:20240310T100000
END:DAYLIGHT
BEGIN:STANDARD
TZOFFSETFROM:-0700
TZOFFSETTO:-0800
TZNAME:PST
DTSTART:20241103T090000
END:STANDARD
BEGIN:DAYLIGHT
TZOFFSETFROM:-0800
TZOFFSETTO:-0700
TZNAME:PDT
DTSTART:20250309T100000
END:DAYLIGHT
BEGIN:STANDARD
TZOFFSETFROM:-0700
TZOFFSETTO:-0800
TZNAME:PST
DTSTART:20251102T090000
END:STANDARD
BEGIN:DAYLIGHT
TZOFFSETFROM:-0800
TZOFFSETTO:-0700
TZNAME:PDT
DTSTART:20260308T100000
END:DAYLIGHT
BEGIN:STANDARD
TZOFFSETFROM:-0700
TZOFFSETTO:-0800
TZNAME:PST
DTSTART:20261101T090000
END:STANDARD
END:VTIMEZONE
BEGIN:VEVENT
DTSTART;TZID=America/Vancouver:20250426T100000
DTEND;TZID=America/Vancouver:20250426T160000
DTSTAMP:20260421T110112
CREATED:20241108T031549Z
LAST-MODIFIED:20250224T185105Z
UID:10000285-1745661600-1745683200@kelownayachtclub.com
SUMMARY:Kelowna Boat Show
DESCRIPTION:One of the Okanagan’s largest boating events of the year is back! The Kelowna Boat Show 2025 – hosted by Kelowna Yacht Club at its spectacular waterfront location\, is set for another year. This engaging and lively event is open to the public is geared towards boating and watersport enthusiasts\, and is great family fun! With over 150 new and used boats for sale\, ranging from entry-level to pontoon\, wakeboard and cruiser\, kayaks and paddleboards\, the Boat Show has something for everyone. \nFind out more information at kelownaboatshow.com. \n 
URL:https://kelownayachtclub.com/event/kelowna-boat-show/2025-04-26/
LOCATION:Kelowna Yacht Club\, 1370 Water St\, Kelowna\, BC\, V1Y 1J1\, Canada
CATEGORIES:Member Events,Public Events
ATTACH;FMTTYPE=image/jpeg:https://kelownayachtclub.com/wp-content/uploads/Kelowna-Boat-Show-2024-81_1.jpg
END:VEVENT
BEGIN:VEVENT
DTSTART;TZID=America/Vancouver:20250410T190000
DTEND;TZID=America/Vancouver:20250410T210000
DTSTAMP:20260421T110112
CREATED:20241108T031251Z
LAST-MODIFIED:20260223T194223Z
UID:10000225-1744311600-1744318800@kelownayachtclub.com
SUMMARY:Book Club
DESCRIPTION:The Kelowna Yacht Club’s Book Club is a reading group that reads and discusses the latest novels and old favourites. Every month a new book is selected\, based around a topic or theme. The Book Club meets the second Thursday of each month. \nThursday\, February 12th\, 2026 \nFebruary · Finding Flora by Elinor Florence \n7:00 PM | Book Discussion – Zoom or Jib Room \nWant to join the Book Club? New members are always welcome! Please contact us here\, and we will connect you with the group. Upcoming 2026 Books: \nMarch · The Life Cycle of the Common Octopus by Emma Knight \nApril · Bury Our Bones in the Midnight Soil \nMay · Culpability \nJune · A Woman is No Man \n\n\n \n\nKindly note that this experience is open to Kelowna Yacht Club members & their guests. If you are interested in Membership\, more information can be found here.
URL:https://kelownayachtclub.com/event/book-club/2025-04-10/
LOCATION:Kelowna Yacht Club\, 1370 Water St\, Kelowna\, BC\, V1Y 1J1\, Canada
CATEGORIES:Member Events
ATTACH;FMTTYPE=image/jpeg:https://kelownayachtclub.com/wp-content/uploads/kimberly-farmer-lUaaKCUANVI-unsplash.jpg
END:VEVENT
BEGIN:VEVENT
DTSTART;TZID=America/Vancouver:20250405T093000
DTEND;TZID=America/Vancouver:20250405T133000
DTSTAMP:20260421T110112
CREATED:20241108T031559Z
LAST-MODIFIED:20250322T004835Z
UID:10000215-1743845400-1743859800@kelownayachtclub.com
SUMMARY:2025 Shore Clean-Up & Dock Swap
DESCRIPTION:Show Up for the Shore Clean-Up\, Stay for the Dock Swap \nSaturday\, April 5 | 09:00 AM – 1:30 PM \nEach spring\, we remove bags of trash from the shoreline in front of the club.  Join us for this clean-up and help us protect wildlife and beautify our surroundings. This clean-up is open KYC members. \nAfterwards\, head to the Dock Swap in the afternoon to get rid of boat-related stuff crowding your dock box. Get great deals on things you do need! \nShore Clean-Up  \n9:00 AM: Grab a coffee\, meet the Environmental Committee and find out what we have planned for 2025\, and how you can get involved. \n9:30 AM – 11:30 PM: Volunteers head out in teams\, gloves provided. A prize will be awarded for most unusual or interesting find. \nDock Swap \n11:30 AM – 1:30 PM: Members meet on the Commodore’s Dock to sell\, shop\, and socialize! \nHow it works: Bring boat-related items you no longer need. Tables will be available on a first-come-first-serve basis. Masking tape and markers will also be on hand. Beyond this\, there are no rules.  Sell\, buy\, barter or giveaway…whatever floats your boat! \nFeel good about what we accomplish when we work together! \nTo volunteer\, click here.
URL:https://kelownayachtclub.com/event/shore-clean-up-dock-swap-cancelled/
LOCATION:Kelowna Yacht Club\, 1370 Water St\, Kelowna\, BC\, V1Y 1J1\, Canada
CATEGORIES:Member Events
ATTACH;FMTTYPE=image/jpeg:https://kelownayachtclub.com/wp-content/uploads/tyler-reynolds-M2GG-S_kOi8-unsplash-scaled.jpg
END:VEVENT
BEGIN:VEVENT
DTSTART;TZID=America/Vancouver:20250330T090000
DTEND;TZID=America/Vancouver:20250330T133000
DTSTAMP:20260421T110112
CREATED:20250304T203411Z
LAST-MODIFIED:20250304T204418Z
UID:10000293-1743325200-1743341400@kelownayachtclub.com
SUMMARY:Club Race Officer Course (CRO)
DESCRIPTION:The CRO course covers the duties of a race officer in charge of a racecourse\, including organization\, setting courses\, starting\, controlling events throughout the race and finishing procedures. A person should have some experience on a race committee\, or a fair amount of racing experience. \nDate: March 29 and 30\, 2025\nTime: \nSaturday\, March 29 | 9:00 AM – 4:30 PM\nSunday\, March 30 | 9:00 AM – 1:30 PM\nCost: $50 Course Materials Included\nLocation: Kelowna Yacht Club \n*Please note that this course is fully in-person. \nFor any questions\, please email delani@bcsailing.bc.ca
URL:https://kelownayachtclub.com/event/club-race-officer-course-cro/2025-03-30/
LOCATION:Kelowna Yacht Club\, 1370 Water St\, Kelowna\, BC\, V1Y 1J1\, Canada
CATEGORIES:Member Events,Public Events
ATTACH;FMTTYPE=image/jpeg:https://kelownayachtclub.com/wp-content/uploads/Blossom-Time-Regatta-2023-25-scaled.jpg
END:VEVENT
BEGIN:VEVENT
DTSTART;TZID=America/Vancouver:20250329T090000
DTEND;TZID=America/Vancouver:20250329T160000
DTSTAMP:20260421T110112
CREATED:20250304T203411Z
LAST-MODIFIED:20250304T204418Z
UID:10000292-1743238800-1743264000@kelownayachtclub.com
SUMMARY:Club Race Officer Course (CRO)
DESCRIPTION:The CRO course covers the duties of a race officer in charge of a racecourse\, including organization\, setting courses\, starting\, controlling events throughout the race and finishing procedures. A person should have some experience on a race committee\, or a fair amount of racing experience. \nDate: March 29 and 30\, 2025\nTime: \nSaturday\, March 29 | 9:00 AM – 4:30 PM\nSunday\, March 30 | 9:00 AM – 1:30 PM\nCost: $50 Course Materials Included\nLocation: Kelowna Yacht Club \n*Please note that this course is fully in-person. \nFor any questions\, please email delani@bcsailing.bc.ca
URL:https://kelownayachtclub.com/event/club-race-officer-course-cro/2025-03-29/
LOCATION:Kelowna Yacht Club\, 1370 Water St\, Kelowna\, BC\, V1Y 1J1\, Canada
CATEGORIES:Member Events,Public Events
ATTACH;FMTTYPE=image/jpeg:https://kelownayachtclub.com/wp-content/uploads/Blossom-Time-Regatta-2023-25-scaled.jpg
END:VEVENT
BEGIN:VEVENT
DTSTART;TZID=America/Vancouver:20250318T190000
DTEND;TZID=America/Vancouver:20250318T210000
DTSTAMP:20260421T110112
CREATED:20250206T005517Z
LAST-MODIFIED:20250224T175109Z
UID:10000158-1742324400-1742331600@kelownayachtclub.com
SUMMARY:Learn To Sail with the KYC Sail Fleet
DESCRIPTION:Learn to sail with members of the Kelowna Yacht Club Sail Fleet! The Introductory course is a fun and affordable opportunity to learn sailing theory\, terminology\, and important safety information\, with the additional option of getting on-water experience sailing on a wide variety of sailboats. This is a volunteer run program put on by members of the Sail Fleet. The sessions offered will allow you to learn at your own pace and not feel the pressure of theory exams. \nPlease note\, no certification will be given through the course. You can sign up for just the classroom theory lessons only or choose to also add 4 on water sessions. \n\n\nDates:\n \nClassroom Lessons (4 Classes)\nFebruary 25\, March 4\, March 11\, March 18 | 7:00 PM – 9:00 PM \nOn-Water Morning Sessions (4 Sessions)\nApril 19\, April 26\, May 3\, May 10 | 10:00 AM – 12:00 PM \nOn-Water Afternoon Sessions (4 Sessions)\nApril 19\, April 26\, May 3\, May 10 | 2:00 PM – 4:00 PM \nPrice:\n$150/person for Classroom Only Session (4 Classes)\n$300/person for Classroom & On-Water Lessons (4 Classes + 4 On Water Sessions) \nBook Now! \n\n\n\n\n\n\nFrequently Asked Questions:  \nQ: Does this give a certification?\nA: This course does not give a certification; it is designed to help you to start building experience and get you connected with some of the sailing community here at the club. We will have some additional program options becoming available in the spring for beginners to intermediate-level sailors running throughout the late spring/summer 2023 season. \nQ: What if I miss a class?\nA: We do not have any make-up classes planned; however\, the instructors are really great about summarizing previous lessons and helping you feel as though you are caught up with important information. \nQ: What if the weather is not very good?\nA: Rain or shine we will go out on the water. If there is a lack of wind during the on-water sessions\, we will still proceed as we can cater the lesson to cover plenty of hands-on experience topics. If there is lightning or a storm\, we will contact the participants and inform them of a new plan or refund. \nQ: Who should we contact with any questions?\nA: Email sailingschool@kelownayachtclub.com
URL:https://kelownayachtclub.com/event/learn-to-sail-with-the-kyc-sail-fleet/2025-03-18/
LOCATION:Kelowna Yacht Club\, 1370 Water St\, Kelowna\, BC\, V1Y 1J1\, Canada
CATEGORIES:Public Events
ATTACH;FMTTYPE=image/png:https://kelownayachtclub.com/wp-content/uploads/Sailing-Photo.png
END:VEVENT
BEGIN:VEVENT
DTSTART;TZID=America/Vancouver:20250313T190000
DTEND;TZID=America/Vancouver:20250313T210000
DTSTAMP:20260421T110112
CREATED:20241108T031251Z
LAST-MODIFIED:20260223T194223Z
UID:10000224-1741892400-1741899600@kelownayachtclub.com
SUMMARY:Book Club
DESCRIPTION:The Kelowna Yacht Club’s Book Club is a reading group that reads and discusses the latest novels and old favourites. Every month a new book is selected\, based around a topic or theme. The Book Club meets the second Thursday of each month. \nThursday\, February 12th\, 2026 \nFebruary · Finding Flora by Elinor Florence \n7:00 PM | Book Discussion – Zoom or Jib Room \nWant to join the Book Club? New members are always welcome! Please contact us here\, and we will connect you with the group. Upcoming 2026 Books: \nMarch · The Life Cycle of the Common Octopus by Emma Knight \nApril · Bury Our Bones in the Midnight Soil \nMay · Culpability \nJune · A Woman is No Man \n\n\n \n\nKindly note that this experience is open to Kelowna Yacht Club members & their guests. If you are interested in Membership\, more information can be found here.
URL:https://kelownayachtclub.com/event/book-club/2025-03-13/
LOCATION:Kelowna Yacht Club\, 1370 Water St\, Kelowna\, BC\, V1Y 1J1\, Canada
CATEGORIES:Member Events
ATTACH;FMTTYPE=image/jpeg:https://kelownayachtclub.com/wp-content/uploads/kimberly-farmer-lUaaKCUANVI-unsplash.jpg
END:VEVENT
BEGIN:VEVENT
DTSTART;TZID=America/Vancouver:20250311T190000
DTEND;TZID=America/Vancouver:20250311T210000
DTSTAMP:20260421T110112
CREATED:20250206T005517Z
LAST-MODIFIED:20250224T175109Z
UID:10000157-1741719600-1741726800@kelownayachtclub.com
SUMMARY:Learn To Sail with the KYC Sail Fleet
DESCRIPTION:Learn to sail with members of the Kelowna Yacht Club Sail Fleet! The Introductory course is a fun and affordable opportunity to learn sailing theory\, terminology\, and important safety information\, with the additional option of getting on-water experience sailing on a wide variety of sailboats. This is a volunteer run program put on by members of the Sail Fleet. The sessions offered will allow you to learn at your own pace and not feel the pressure of theory exams. \nPlease note\, no certification will be given through the course. You can sign up for just the classroom theory lessons only or choose to also add 4 on water sessions. \n\n\nDates:\n \nClassroom Lessons (4 Classes)\nFebruary 25\, March 4\, March 11\, March 18 | 7:00 PM – 9:00 PM \nOn-Water Morning Sessions (4 Sessions)\nApril 19\, April 26\, May 3\, May 10 | 10:00 AM – 12:00 PM \nOn-Water Afternoon Sessions (4 Sessions)\nApril 19\, April 26\, May 3\, May 10 | 2:00 PM – 4:00 PM \nPrice:\n$150/person for Classroom Only Session (4 Classes)\n$300/person for Classroom & On-Water Lessons (4 Classes + 4 On Water Sessions) \nBook Now! \n\n\n\n\n\n\nFrequently Asked Questions:  \nQ: Does this give a certification?\nA: This course does not give a certification; it is designed to help you to start building experience and get you connected with some of the sailing community here at the club. We will have some additional program options becoming available in the spring for beginners to intermediate-level sailors running throughout the late spring/summer 2023 season. \nQ: What if I miss a class?\nA: We do not have any make-up classes planned; however\, the instructors are really great about summarizing previous lessons and helping you feel as though you are caught up with important information. \nQ: What if the weather is not very good?\nA: Rain or shine we will go out on the water. If there is a lack of wind during the on-water sessions\, we will still proceed as we can cater the lesson to cover plenty of hands-on experience topics. If there is lightning or a storm\, we will contact the participants and inform them of a new plan or refund. \nQ: Who should we contact with any questions?\nA: Email sailingschool@kelownayachtclub.com
URL:https://kelownayachtclub.com/event/learn-to-sail-with-the-kyc-sail-fleet/2025-03-11/
LOCATION:Kelowna Yacht Club\, 1370 Water St\, Kelowna\, BC\, V1Y 1J1\, Canada
CATEGORIES:Public Events
ATTACH;FMTTYPE=image/png:https://kelownayachtclub.com/wp-content/uploads/Sailing-Photo.png
END:VEVENT
BEGIN:VEVENT
DTSTART;TZID=America/Vancouver:20250304T190000
DTEND;TZID=America/Vancouver:20250304T210000
DTSTAMP:20260421T110112
CREATED:20250206T005517Z
LAST-MODIFIED:20250224T175109Z
UID:10000156-1741114800-1741122000@kelownayachtclub.com
SUMMARY:Learn To Sail with the KYC Sail Fleet
DESCRIPTION:Learn to sail with members of the Kelowna Yacht Club Sail Fleet! The Introductory course is a fun and affordable opportunity to learn sailing theory\, terminology\, and important safety information\, with the additional option of getting on-water experience sailing on a wide variety of sailboats. This is a volunteer run program put on by members of the Sail Fleet. The sessions offered will allow you to learn at your own pace and not feel the pressure of theory exams. \nPlease note\, no certification will be given through the course. You can sign up for just the classroom theory lessons only or choose to also add 4 on water sessions. \n\n\nDates:\n \nClassroom Lessons (4 Classes)\nFebruary 25\, March 4\, March 11\, March 18 | 7:00 PM – 9:00 PM \nOn-Water Morning Sessions (4 Sessions)\nApril 19\, April 26\, May 3\, May 10 | 10:00 AM – 12:00 PM \nOn-Water Afternoon Sessions (4 Sessions)\nApril 19\, April 26\, May 3\, May 10 | 2:00 PM – 4:00 PM \nPrice:\n$150/person for Classroom Only Session (4 Classes)\n$300/person for Classroom & On-Water Lessons (4 Classes + 4 On Water Sessions) \nBook Now! \n\n\n\n\n\n\nFrequently Asked Questions:  \nQ: Does this give a certification?\nA: This course does not give a certification; it is designed to help you to start building experience and get you connected with some of the sailing community here at the club. We will have some additional program options becoming available in the spring for beginners to intermediate-level sailors running throughout the late spring/summer 2023 season. \nQ: What if I miss a class?\nA: We do not have any make-up classes planned; however\, the instructors are really great about summarizing previous lessons and helping you feel as though you are caught up with important information. \nQ: What if the weather is not very good?\nA: Rain or shine we will go out on the water. If there is a lack of wind during the on-water sessions\, we will still proceed as we can cater the lesson to cover plenty of hands-on experience topics. If there is lightning or a storm\, we will contact the participants and inform them of a new plan or refund. \nQ: Who should we contact with any questions?\nA: Email sailingschool@kelownayachtclub.com
URL:https://kelownayachtclub.com/event/learn-to-sail-with-the-kyc-sail-fleet/2025-03-04/
LOCATION:Kelowna Yacht Club\, 1370 Water St\, Kelowna\, BC\, V1Y 1J1\, Canada
CATEGORIES:Public Events
ATTACH;FMTTYPE=image/png:https://kelownayachtclub.com/wp-content/uploads/Sailing-Photo.png
END:VEVENT
BEGIN:VEVENT
DTSTART;TZID=America/Vancouver:20250225T190000
DTEND;TZID=America/Vancouver:20250225T210000
DTSTAMP:20260421T110112
CREATED:20250206T005517Z
LAST-MODIFIED:20250224T175109Z
UID:10000155-1740510000-1740517200@kelownayachtclub.com
SUMMARY:Learn To Sail with the KYC Sail Fleet
DESCRIPTION:Learn to sail with members of the Kelowna Yacht Club Sail Fleet! The Introductory course is a fun and affordable opportunity to learn sailing theory\, terminology\, and important safety information\, with the additional option of getting on-water experience sailing on a wide variety of sailboats. This is a volunteer run program put on by members of the Sail Fleet. The sessions offered will allow you to learn at your own pace and not feel the pressure of theory exams. \nPlease note\, no certification will be given through the course. You can sign up for just the classroom theory lessons only or choose to also add 4 on water sessions. \n\n\nDates:\n \nClassroom Lessons (4 Classes)\nFebruary 25\, March 4\, March 11\, March 18 | 7:00 PM – 9:00 PM \nOn-Water Morning Sessions (4 Sessions)\nApril 19\, April 26\, May 3\, May 10 | 10:00 AM – 12:00 PM \nOn-Water Afternoon Sessions (4 Sessions)\nApril 19\, April 26\, May 3\, May 10 | 2:00 PM – 4:00 PM \nPrice:\n$150/person for Classroom Only Session (4 Classes)\n$300/person for Classroom & On-Water Lessons (4 Classes + 4 On Water Sessions) \nBook Now! \n\n\n\n\n\n\nFrequently Asked Questions:  \nQ: Does this give a certification?\nA: This course does not give a certification; it is designed to help you to start building experience and get you connected with some of the sailing community here at the club. We will have some additional program options becoming available in the spring for beginners to intermediate-level sailors running throughout the late spring/summer 2023 season. \nQ: What if I miss a class?\nA: We do not have any make-up classes planned; however\, the instructors are really great about summarizing previous lessons and helping you feel as though you are caught up with important information. \nQ: What if the weather is not very good?\nA: Rain or shine we will go out on the water. If there is a lack of wind during the on-water sessions\, we will still proceed as we can cater the lesson to cover plenty of hands-on experience topics. If there is lightning or a storm\, we will contact the participants and inform them of a new plan or refund. \nQ: Who should we contact with any questions?\nA: Email sailingschool@kelownayachtclub.com
URL:https://kelownayachtclub.com/event/learn-to-sail-with-the-kyc-sail-fleet/2025-02-25/
LOCATION:Kelowna Yacht Club\, 1370 Water St\, Kelowna\, BC\, V1Y 1J1\, Canada
CATEGORIES:Public Events
ATTACH;FMTTYPE=image/png:https://kelownayachtclub.com/wp-content/uploads/Sailing-Photo.png
END:VEVENT
BEGIN:VEVENT
DTSTART;TZID=America/Vancouver:20241215T100000
DTEND;TZID=America/Vancouver:20241215T140000
DTSTAMP:20260421T110112
CREATED:20241108T031251Z
LAST-MODIFIED:20241205T211916Z
UID:10000007-1734256800-1734271200@kelownayachtclub.com
SUMMARY:Santa Brunch  |  SOLD OUT
DESCRIPTION:Due to popular demand\, this event is SOLD OUT for both dates! \n  \n\n  \nSanta Claus is coming to Kelowna Yacht Club! \nGather the family and kick-off the holiday season by enjoying a delicious and decadent holiday brunch buffet that will leave your tummies as full as Santa’s. The buffet will have a wide array of options for everyone in the family\, including a Chef-attended eggs benedict bar\, a carvery station & much more. \nAlong with the buffet\, families can join Santa for professional photos in Santa’s Workshop and take part in holiday crafts and other fun activities. Don’t forget to bring your letters to Santa and drop them in the North Pole mailbox! Okanagan Photostar will be on-site to provide instant photos for take-home keepsakes. \nMake this a Christmas to remember at the Kelowna Yacht Club! \nSunday\, December 8 | 10:00 AM to 2:00 PM\nSanta’s Workshop | 10:00 AM to 1:30 PM\nRegister for your December 8 Table Here \nSunday\, December 15 | 10:00 AM to 2:00 PM\nSanta’s Workshop | 10:00 AM to 1:30 PM\nRegister for your December 15 Table Here \nKYC Members & Guests| $39.95\nChildren 6-12 | $16.95\nChildren 5 & younger | Complimentary \nRegistration is required\, and can be done online at the links above. Please note the maximum seating capacity per booking is 8. For groups larger than this\, more than one table registration will be required. \nPlease note\, reservations are currently only open for KYC members & their guests.  \nFor any questions\, please contact the Member Lounge at 778-478-8215 or by emailing us here. \n  \n\n\n\n \n\nKindly note that this experience is open to Kelowna Yacht Club members & their guests. If you are interested in Membership\, more information can be found here. 
URL:https://kelownayachtclub.com/event/santa-brunch/2024-12-15/
LOCATION:Kelowna Yacht Club\, 1370 Water St\, Kelowna\, BC\, V1Y 1J1\, Canada
CATEGORIES:Member Events
ATTACH;FMTTYPE=image/png:https://kelownayachtclub.com/wp-content/uploads/Santa-Brunch-5.png
END:VEVENT
BEGIN:VEVENT
DTSTART;TZID=America/Vancouver:20241208T100000
DTEND;TZID=America/Vancouver:20241208T140000
DTSTAMP:20260421T110112
CREATED:20241108T031251Z
LAST-MODIFIED:20241205T211916Z
UID:10000006-1733652000-1733666400@kelownayachtclub.com
SUMMARY:Santa Brunch  |  SOLD OUT
DESCRIPTION:Due to popular demand\, this event is SOLD OUT for both dates! \n  \n\n  \nSanta Claus is coming to Kelowna Yacht Club! \nGather the family and kick-off the holiday season by enjoying a delicious and decadent holiday brunch buffet that will leave your tummies as full as Santa’s. The buffet will have a wide array of options for everyone in the family\, including a Chef-attended eggs benedict bar\, a carvery station & much more. \nAlong with the buffet\, families can join Santa for professional photos in Santa’s Workshop and take part in holiday crafts and other fun activities. Don’t forget to bring your letters to Santa and drop them in the North Pole mailbox! Okanagan Photostar will be on-site to provide instant photos for take-home keepsakes. \nMake this a Christmas to remember at the Kelowna Yacht Club! \nSunday\, December 8 | 10:00 AM to 2:00 PM\nSanta’s Workshop | 10:00 AM to 1:30 PM\nRegister for your December 8 Table Here \nSunday\, December 15 | 10:00 AM to 2:00 PM\nSanta’s Workshop | 10:00 AM to 1:30 PM\nRegister for your December 15 Table Here \nKYC Members & Guests| $39.95\nChildren 6-12 | $16.95\nChildren 5 & younger | Complimentary \nRegistration is required\, and can be done online at the links above. Please note the maximum seating capacity per booking is 8. For groups larger than this\, more than one table registration will be required. \nPlease note\, reservations are currently only open for KYC members & their guests.  \nFor any questions\, please contact the Member Lounge at 778-478-8215 or by emailing us here. \n  \n\n\n\n \n\nKindly note that this experience is open to Kelowna Yacht Club members & their guests. If you are interested in Membership\, more information can be found here. 
URL:https://kelownayachtclub.com/event/santa-brunch/2024-12-08/
LOCATION:Kelowna Yacht Club\, 1370 Water St\, Kelowna\, BC\, V1Y 1J1\, Canada
CATEGORIES:Member Events
ATTACH;FMTTYPE=image/png:https://kelownayachtclub.com/wp-content/uploads/Santa-Brunch-5.png
END:VEVENT
END:VCALENDAR